Workbook

Sheet INICIO
B2: TABLA PERIÓDICA DE LOS ELEMENTOS DE FRAUDE INTERNO
B8: ¿ QUIERES CONOCER CUALES SON LOS ELEMENTOS DE FRAUDE INTERNO DE TU EMPRESA ?
O14: POR GENTILEZA DE :
B15: EMPEZAR

Sheet ENCUESTA
AA1: SI | AB1: 1 | AC1: Recomendaciones
AA2: NO | AB2: 2 | AC2: =IF(D34<3,"- Impulsar la formación interna, mediante cursos gratuitos o subvencionados.","") -> - Impulsar la formación interna, mediante cursos gratuitos o subvencionados. | AD2: =IF(AC2="",0,1) -> 1 | AE2: =AD2*AB2 -> 2 | AF2: =LARGE($AE$2:$AE$12,1) -> 5 | AG2: =IFERROR(VLOOKUP(AF2,AB:AC,2,0),"") -> - Crear controles antifraude, a partir del Risk Assessment. | AQ2: SALUD DE LA EMPRESA | AR2: =(AR3+AR4+AR5)/3 -> #DIV/0! | AS2: =IF(AR2>75,"NECESITA MEJORAS URGENTES",IF(AR2>50,"NECESITA MEJORAS",IF(AR2>25,"NECESITA ALGUNA MEJORA","ADECUADO"))) -> #DIV/0!
AB3: 3 | AC3: =IF(D31>2,"- Implementar un plan de actuación para evitar la conflictividad laboral.","") | AD3: =IF(AC3="",0,1) -> 0 | AE3: =AD3*AB3 -> 0 | AF3: =LARGE($AE$2:$AE$12,2) -> 4 | AG3: =IFERROR(VLOOKUP(AF3,AB:AC,2,0),"") -> - Crear planes de carrera internos y premios que favorezcan la motivación de los empleados | AQ3: INCENTIVO/PRESION | AR3: =(D18*20+D19*20+D20*20+D21*20)/4 -> 0 | AS3: =IF(AR3>75,"NECESITA MEJORAS URGENTES",IF(AR3>50,"NECESITA MEJORAS",IF(AR3>25,"NECESITA ALGUNA MEJORA","ADECUADO"))) -> ADECUADO
AB4: 4 | AC4: =IF(D27*D30<9,"- Crear planes de carrera internos y premios que favorezcan la motivación de los empleados","") -> - Crear planes de carrera internos y premios que favorezcan la motivación de los empleados | AD4: =IF(AC4="",0,1) -> 1 | AE4: =AD4*AB4 -> 4 | AF4: =LARGE($AE$2:$AE$12,3) -> 2 | AG4: =IFERROR(VLOOKUP(AF4,AB:AC,2,0),"") -> - Impulsar la formación interna, mediante cursos gratuitos o subvencionados. | AQ4: OPORTUNIDAD | AR4: =AV4/5 -> #DIV/0! | AS4: =IF(AR4>75,"NECESITA MEJORAS URGENTES",IF(AR4>50,"NECESITA MEJORAS",IF(AR4>25,"NECESITA ALGUNA MEJORA","ADECUADO"))) -> #DIV/0! | AV4: =((((1/D22)*100)))+D24*20+((((1/D25)*100)))+D23*20+((1/D26)*100) -> #DIV/0!
AB5: 5 | AC5: =IF(D22<3,"- Crear controles antifraude, a partir del Risk Assessment.","") -> - Crear controles antifraude, a partir del Risk Assessment. | AD5: =IF(AC5="",0,1) -> 1 | AE5: =AD5*AB5 -> 5 | AF5: =LARGE($AE$2:$AE$12,4) -> 0 | AG5: =IFERROR(VLOOKUP(AF5,AB:AC,2,0),"") | AQ5: RAZONIALIZACIÓN/ACTITUD | AR5: =AV5/9 -> #DIV/0! | AS5: =IF(AR5>75,"NECESITA MEJORAS URGENTES",IF(AR5>50,"NECESITA MEJORAS",IF(AR5>25,"NECESITA ALGUNA MEJORA","ADECUADO"))) -> #DIV/0! | AV5: =(1/D27)*100+(1/D28)*100+(1/D29)*100+(1/D30)*100+(1/D32)*100+(1/D33)*100+(1/D34)*100+(1/D35)*100+D31*20 -> #DIV/0!
B6: Contesta SI o NO a las siguientes preguntas sobre tu empresa | D6: RESPUESTA | AB6: 6 | AC6: =IF(D13="no","- Impulsar la creación de un Risk Assessment anual de fraude interno sobre la organización.","") | AD6: =IF(AC6="",0,1) -> 0 | AE6: =AD6*AB6 -> 0 | AF6: =LARGE($AE$2:$AE$12,5) -> 0 | AG6: =IFERROR(VLOOKUP(AF6,AB:AC,2,0),"")
B7: 1 | C7: ¿Existe un canal de denuncias? | AB7: 7 | AC7: =IF(D12="no","- Se recomienda la realización de una auditoria externa en el ámbito de Fraude Interno.","") | AD7: =IF(AC7="",0,1) -> 0 | AE7: =AD7*AB7 -> 0 | AF7: =LARGE($AE$2:$AE$12,6) -> 0 | AG7: =IFERROR(VLOOKUP(AF7,AB:AC,2,0),"")
B8: 2 | C8: ¿Existe un código ético y de conducta? | AB8: 8 | AC8: =IF(D11="no","- Crear la función/departamento de Auditor interno y definir sus funciones.","") | AD8: =IF(AC8="",0,1) -> 0 | AE8: =AD8*AB8 -> 0 | AF8: =LARGE($AE$2:$AE$12,7) -> 0 | AG8: =IFERROR(VLOOKUP(AF8,AB:AC,2,0),"")
B9: 3 | C9: ¿Se realiza una Formación o comunicaciones sobre Fraude? | AB9: 9 | AC9: =IF(D14="no","- Impulsar las áreas de control desde el máximo organo de Gobierno.","") | AD9: =IF(AC9="",0,1) -> 0 | AE9: =AD9*AB9 -> 0 | AF9: =LARGE($AE$2:$AE$12,8) -> 0 | AG9: =IFERROR(VLOOKUP(AF9,AB:AC,2,0),"")
B10: 4 | C10: ¿La dirección impulsa el Área de Control? | AB10: 10 | AC10: =IF(D9="no","- Realizar un programa formativo especifico sobre Fraude Interno y comunicacones internas.","") | AD10: =IF(AC10="",0,1) -> 0 | AE10: =AD10*AB10 -> 0 | AF10: =LARGE($AE$2:$AE$12,9) -> 0 | AG10: =IFERROR(VLOOKUP(AF10,AB:AC,2,0),"")
B11: 5 | C11: ¿Existe la función de Auditor Interno? | AB11: 11 | AC11: =IF(D8="no","- Instaurar un código ético y de conducta.","") | AD11: =IF(AC11="",0,1) -> 0 | AE11: =AD11*AB11 -> 0 | AF11: =LARGE($AE$2:$AE$12,10) -> 0 | AG11: =IFERROR(VLOOKUP(AF11,AB:AC,2,0),"")
B12: 6 | C12: ¿Se realizan Auditoria Externas? | AB12: 12 | AC12: =IF(D7="no","- Instaurar un canal de denuncias anónimo.","") | AD12: =IF(AC12="",0,1) -> 0 | AE12: =AD12*AB12 -> 0 | AF12: =LARGE($AE$2:$AE$12,11) -> 0 | AG12: =IFERROR(VLOOKUP(AF12,AB:AC,2,0),"")
B13: 7 | C13: ¿Se realiza anualmente una valoración de Riesgos de Fraude a los empleados?
B14: 8 | C14: ¿Existen controles antifraude?
B15: 9 | C15: ¿En el ultimo año se han abierto expedientes disciplinarios por temas de fraude? | AG15: =IFERROR(VLOOKUP(AF15,AB:AC,2,0),"")
AG16: =IFERROR(VLOOKUP(AF16,AB:AC,2,0),"")
B17: A NIVEL GENERAL, valora del 1 al 5 como situarias a tu empresa. | D17: VALORACIÓN | F17: Observaciones | AG17: =IFERROR(VLOOKUP(AF17,AB:AC,2,0),"")
B18: 10 | C18: Nivel de presión por objetivos | F18: 1: no existe presión. 5: existe mucha presión | AG18: =IFERROR(VLOOKUP(AF18,AB:AC,2,0),"")
B19: 11 | C19: Politica empresa enfocada a resultados | F19: 1: poco enfocada. 5: muy enfocada | AG19: =IFERROR(VLOOKUP(AF19,AB:AC,2,0),"")
B20: 12 | C20: % del variable sobre el salario bruto. | F20: 5 seria un 50%, 4 un 40%... | AG20: =IFERROR(VLOOKUP(AF20,AB:AC,2,0),"")
B21: 13 | C21: Presión clientes/provedores | F21: 1: no existe presión. 5: existe mucha presión | AG21: =IFERROR(VLOOKUP(AF21,AB:AC,2,0),"")
B22: 14 | C22: Controles antifraude existentes | F22: 1: no exiten. 5: exitenten muchos | AG22: =IFERROR(VLOOKUP(AF22,AB:AC,2,0),"")
B23: 15 | C23: Concentración de funciones | F23: 1: no exiten. 5: exitenten numerosas | AG23: =IFERROR(VLOOKUP(AF23,AB:AC,2,0),"")
B24: 16 | C24: Conocimiento de la empresa por parte de los empleados | F24: 1: poco. 5: mucho. | AG24: =IFERROR(VLOOKUP(AF24,AB:AC,2,0),"")
B25: 17 | C25: Politica empresa enfocada a riesgos | F25: 1: poco enfocada. 5: muy enfocada | AG25: =IFERROR(VLOOKUP(AF25,AB:AC,2,0),"")
B26: 18 | C26: Implicación de la dirección Vs Fraude | F26: 1: poco. 5: mucho. | AG26: =IFERROR(VLOOKUP(AF26,AB:AC,2,0),"")
B27: 19 | C27: Motivación de los empleados | F27: 1: poca. 5: mucha. | AG27: =IFERROR(VLOOKUP(AF27,AB:AC,2,0),"")
B28: 20 | C28: Autoestima de los empleados | F28: 1: poca. 5: mucha.
B29: 21 | C29: Nivel de moralidad de los empleados | F29: 1: poca. 5: mucha.
B30: 22 | C30: Planes de carrera internos | F30: 1: no exiten. 5: exitenten numerosos
B31: 23 | C31: Conflictividad laboral | F31: 1: poca. 5: mucha.
B32: 24 | C32: Situación económica de los empleados | F32: 1: mala. 5: excelente
B33: 25 | C33: Situación familiar de los empleados | F33: 1: mala. 5: excelente
B34: 26 | C34: Nivel de formación (en todos los ámbitos) que se facilita a los empleados. | F34: 1: poca. 5: mucha.
B35: 27 | C35: Exito laboral de los empleados | F35: 1: poco. 5: mucho.
C36: =COUNTBLANK(D18:D35) -> 18
C37: =IF(C16+C36=0,"","FALTA CONTESTAR ALGUNA PREGUNTA") -> FALTA CONTESTAR ALGUNA PREGUNTA
C38: =IF(C37="","ACCEDER A LOS RESULTADOS","")

Sheet RESULTADOS
B2: TABLA PERIÓDICA DE LOS ELEMENTOS DE FRAUDE INTERNO
E8: VALORACIÓN
B9: M
E10: SALUT DE LA EMPRESA | K10: Y | M10: =ENCUESTA!$AS$2 -> #DIV/0! | V10: clika en el logo para ver más artículos
W11: =IF(ENCUESTA!C37="FALTA CONTESTAR ALGUNA PREGUNTA","ENCUESTA","") -> ENCUESTA
B12: Motivación | R12: TERMOMETRO DEL FRAUDE
W13: =IF(ENCUESTA!C37="FALTA CONTESTAR ALGUNA PREGUNTA","INCOMPLETA:","") -> INCOMPLETA:
B14: A | E14: RACIONALIZACIÓN/ACTITUD | M14: =ENCUESTA!AS3 -> ADECUADO | T14: L
W15: VOLVER A LA ENCUESTA
B17: Autoestima | E17: OPORTUNIDAD | M17: =ENCUESTA!AS4 -> #DIV/0! | T17: K
B19: Mr
E20: INCENTIVO/PRESIÓN | M20: =ENCUESTA!AS5 -> #DIV/0! | T20: J
B22: Moralidad
B24: Ex | E24: Cr | K24: RECOMENDACIONES:
E26: Controles de fraude | K26: =ENCUESTA!AG2 -> - Crear controles antifraude, a partir del Risk Assessment.
B27: Éxito laboral
K28: =ENCUESTA!AG3 -> - Crear planes de carrera internos y premios que favorezcan la motivación de los empleados
B29: CL | E29: CF | H29: PO
K30: =ENCUESTA!AG4 -> - Impulsar la formación interna, mediante cursos gratuitos o subvencionados.
B31: Conflictividad laboral | E31: Concentración de funciones | H31: Presion por objetivos
K32: =ENCUESTA!AG5
B34: SE | E34: CE | H34: PB | K34: =ENCUESTA!AG6
B36: Situación económica | E36: Conocimiento de la empresa | H36: Politica empresa enfocada a resul. | K36: =ENCUESTA!AG7
K38: =ENCUESTA!AG8
B39: SF | E39: PR | H39: B
K40: =ENCUESTA!AG9
B41: Situación familiar | E41: Politica empresa enfocada a riesgos
H42: Bonus variable | K42: =ENCUESTA!AG10
B44: F | E44: ID | H44: PR | K44: =ENCUESTA!AG11
K45: =ENCUESTA!AG15
E46: Implicación de la Dirección Vs Fraude | H46: Presión clientes/provedores | K46: =ENCUESTA!AG12
B47: Formación
